BEGIN:VCALENDAR
VERSION:2.0
PRODID:-//Plone.org//NONSGML plone.app.event//EN
X-WR-TIMEZONE:Europe/Madrid
BEGIN:VEVENT
SUMMARY:XX Marató de problemes
DTSTART;TZID=Europe/Madrid:20140304T160000
DTEND;TZID=Europe/Madrid:20140304T200000
DTSTAMP:20260419T223901Z
UID:1e79d2d9-d3d5-453d-b55d-de849bef490a@peter2pre.upc.edu:11004
CREATED:20140224T143400Z
LAST-MODIFIED:20140224T145700Z
URL:https://dafme.upc.edu/ca/esdeveniments/marato-de-problemes
END:VEVENT
BEGIN:VTIMEZONE
TZID:Europe/Madrid
X-LIC-LOCATION:Europe/Madrid
BEGIN:STANDARD
DTSTART:20131027T020000
TZNAME:CET
TZOFFSETFROM:+0200
TZOFFSETTO:+0100
END:STANDARD
END:VTIMEZONE
END:VCALENDAR
